BEGIN:VCALENDAR
VERSION:2.0
PRODID:-//First Congregational Church of Elgin - ECPv6.15.11//NONSGML v1.0//EN
CALSCALE:GREGORIAN
METHOD:PUBLISH
X-WR-CALNAME:First Congregational Church of Elgin
X-ORIGINAL-URL:https://fcc-elgin.org
X-WR-CALDESC:Events for First Congregational Church of Elgin
REFRESH-INTERVAL;VALUE=DURATION:PT1H
X-Robots-Tag:noindex
X-PUBLISHED-TTL:PT1H
BEGIN:VTIMEZONE
TZID:America/Chicago
BEGIN:DAYLIGHT
TZOFFSETFROM:-0600
TZOFFSETTO:-0500
TZNAME:CDT
DTSTART:20240310T080000
END:DAYLIGHT
BEGIN:STANDARD
TZOFFSETFROM:-0500
TZOFFSETTO:-0600
TZNAME:CST
DTSTART:20241103T070000
END:STANDARD
BEGIN:DAYLIGHT
TZOFFSETFROM:-0600
TZOFFSETTO:-0500
TZNAME:CDT
DTSTART:20250309T080000
END:DAYLIGHT
BEGIN:STANDARD
TZOFFSETFROM:-0500
TZOFFSETTO:-0600
TZNAME:CST
DTSTART:20251102T070000
END:STANDARD
BEGIN:DAYLIGHT
TZOFFSETFROM:-0600
TZOFFSETTO:-0500
TZNAME:CDT
DTSTART:20260308T080000
END:DAYLIGHT
BEGIN:STANDARD
TZOFFSETFROM:-0500
TZOFFSETTO:-0600
TZNAME:CST
DTSTART:20261101T070000
END:STANDARD
END:VTIMEZONE
BEGIN:VEVENT
DTSTART;TZID=America/Chicago:20251026T114500
DTEND;TZID=America/Chicago:20251026T130000
DTSTAMP:20260420T132306
CREATED:20251013T191210Z
LAST-MODIFIED:20251013T191210Z
UID:2133-1761479100-1761483600@fcc-elgin.org
SUMMARY:Town Hall on Immigration
DESCRIPTION:Rev. Dr. Jesse Tanner\, Speaker \nLocation: Fellowship Hall\, during Coffee Hour \n\nReliable\, up to date information about the immigration situation in Elgin. The situation changes from day to day. Learn what other groups are working collaboratively in Elgin in various ways to assist and help keep our neighbors safe.\nFind out how this situation developed- What happened?\nFirst Congregational UCC of Elgin’s contributions so far and current plans moving forward.
URL:https://fcc-elgin.org/event/town-hall-on-immigration/
LOCATION:IL
END:VEVENT
END:VCALENDAR