BEGIN:VCALENDAR
VERSION:2.0
PRODID:-//First Congregational Church of Elgin - ECPv6.15.11//NONSGML v1.0//EN
CALSCALE:GREGORIAN
METHOD:PUBLISH
X-WR-CALNAME:First Congregational Church of Elgin
X-ORIGINAL-URL:https://fcc-elgin.org
X-WR-CALDESC:Events for First Congregational Church of Elgin
REFRESH-INTERVAL;VALUE=DURATION:PT1H
X-Robots-Tag:noindex
X-PUBLISHED-TTL:PT1H
BEGIN:VTIMEZONE
TZID:America/Chicago
BEGIN:DAYLIGHT
TZOFFSETFROM:-0600
TZOFFSETTO:-0500
TZNAME:CDT
DTSTART:20240310T080000
END:DAYLIGHT
BEGIN:STANDARD
TZOFFSETFROM:-0500
TZOFFSETTO:-0600
TZNAME:CST
DTSTART:20241103T070000
END:STANDARD
BEGIN:DAYLIGHT
TZOFFSETFROM:-0600
TZOFFSETTO:-0500
TZNAME:CDT
DTSTART:20250309T080000
END:DAYLIGHT
BEGIN:STANDARD
TZOFFSETFROM:-0500
TZOFFSETTO:-0600
TZNAME:CST
DTSTART:20251102T070000
END:STANDARD
BEGIN:DAYLIGHT
TZOFFSETFROM:-0600
TZOFFSETTO:-0500
TZNAME:CDT
DTSTART:20260308T080000
END:DAYLIGHT
BEGIN:STANDARD
TZOFFSETFROM:-0500
TZOFFSETTO:-0600
TZNAME:CST
DTSTART:20261101T070000
END:STANDARD
END:VTIMEZONE
BEGIN:VEVENT
DTSTART;TZID=America/Chicago:20251116T160000
DTEND;TZID=America/Chicago:20251116T170000
DTSTAMP:20260420T132338
CREATED:20250909T174811Z
LAST-MODIFIED:20251016T150133Z
UID:2075-1763308800-1763312400@fcc-elgin.org
SUMMARY:Great Elgin Pipe Organ Tour—Journey of Hope
DESCRIPTION:Journey of Hope United Methodist Church \nTravel along with FCC music director and organist\, Dr. Jeff Neufeld\, as he and guests perform on the many pipe organs of Elgin’s churches\, from the massive four-manual Austin/Rodgers organ at First United Methodist\, to the small but mighty one-manual Casavant at Christ the Lord Lutheran. \nBeginning in September 2025 and continuing through next May\, the tour will begin in downtown Elgin\, make its way out to the west side\, and then loop back into downtown with a finale concert at First Congregational. Along with a wide variety of organ repertoire\, some concerts will also feature piano/organ duets\, other instrumentalists. and hymn singing. \nTo see all organ tour dates visit Organ Tour Dates
URL:https://fcc-elgin.org/event/great-elgin-pipe-organ-tour-2025-2026-2/
LOCATION:Journey of Hope United Methodist Church\, 37W040 Highland Ave\, Elgin\, 60124\, United States
ATTACH;FMTTYPE=image/jpeg:https://fcc-elgin.org/wp-content/uploads/2025/09/Great-Elgin-Organ-Tour-Digital-File-4-copy-scaled.jpg
ORGANIZER;CN="First Congregational United Church of Christ - Elgin":MAILTO:office@fcc-elgin.org
END:VEVENT
END:VCALENDAR