BEGIN:VCALENDAR
VERSION:2.0
PRODID:-//First Congregational Church of Elgin - ECPv6.15.11//NONSGML v1.0//EN
CALSCALE:GREGORIAN
METHOD:PUBLISH
X-ORIGINAL-URL:https://fcc-elgin.org
X-WR-CALDESC:Events for First Congregational Church of Elgin
REFRESH-INTERVAL;VALUE=DURATION:PT1H
X-Robots-Tag:noindex
X-PUBLISHED-TTL:PT1H
BEGIN:VTIMEZONE
TZID:America/Chicago
BEGIN:DAYLIGHT
TZOFFSETFROM:-0600
TZOFFSETTO:-0500
TZNAME:CDT
DTSTART:20250309T080000
END:DAYLIGHT
BEGIN:STANDARD
TZOFFSETFROM:-0500
TZOFFSETTO:-0600
TZNAME:CST
DTSTART:20251102T070000
END:STANDARD
BEGIN:DAYLIGHT
TZOFFSETFROM:-0600
TZOFFSETTO:-0500
TZNAME:CDT
DTSTART:20260308T080000
END:DAYLIGHT
BEGIN:STANDARD
TZOFFSETFROM:-0500
TZOFFSETTO:-0600
TZNAME:CST
DTSTART:20261101T070000
END:STANDARD
BEGIN:DAYLIGHT
TZOFFSETFROM:-0600
TZOFFSETTO:-0500
TZNAME:CDT
DTSTART:20270314T080000
END:DAYLIGHT
BEGIN:STANDARD
TZOFFSETFROM:-0500
TZOFFSETTO:-0600
TZNAME:CST
DTSTART:20271107T070000
END:STANDARD
END:VTIMEZONE
BEGIN:VEVENT
DTSTART;TZID=America/Chicago:20260225T190000
DTEND;TZID=America/Chicago:20260225T200000
DTSTAMP:20260420T132151
CREATED:20260120T214030Z
LAST-MODIFIED:20260120T214030Z
UID:2285-1772046000-1772049600@fcc-elgin.org
SUMMARY:ReCenter—A Meditation Gathering for Renewal
DESCRIPTION:Join Rev. Dr. Jesse Tanner for ReCenter\, a weekly guided meditation gathering offering a quiet pause in the middle of the week.\nEach Wednesday at 7:00 pm\, we’ll slow our breathing\, still our minds\, and reconnect with our truest selves and the Sacred presence that holds us.\nIn a time of heightened stress and turmoil in our society\, this gathering offers a much-needed space for recentering and replenishing our spirits.\nNo prior experience is needed—just come as you are. Hope to see you there!
URL:https://fcc-elgin.org/event/recenter-a-meditation-gathering-for-renewal/
LOCATION:First Congregational United Church of Christ – Elgin\, 256 E Chicago St\, Elgin\, IL\, 60120\, United States
ATTACH;FMTTYPE=image/jpeg:https://fcc-elgin.org/wp-content/uploads/2026/01/ReCenter.jpg
ORGANIZER;CN="First Congregational United Church of Christ - Elgin":MAILTO:office@fcc-elgin.org
END:VEVENT
END:VCALENDAR