BEGIN:VCALENDAR
VERSION:2.0
PRODID:-//First Congregational Church of Elgin - ECPv6.15.11//NONSGML v1.0//EN
CALSCALE:GREGORIAN
METHOD:PUBLISH
X-ORIGINAL-URL:https://fcc-elgin.org
X-WR-CALDESC:Events for First Congregational Church of Elgin
REFRESH-INTERVAL;VALUE=DURATION:PT1H
X-Robots-Tag:noindex
X-PUBLISHED-TTL:PT1H
BEGIN:VTIMEZONE
TZID:America/Chicago
BEGIN:DAYLIGHT
TZOFFSETFROM:-0600
TZOFFSETTO:-0500
TZNAME:CDT
DTSTART:20250309T080000
END:DAYLIGHT
BEGIN:STANDARD
TZOFFSETFROM:-0500
TZOFFSETTO:-0600
TZNAME:CST
DTSTART:20251102T070000
END:STANDARD
BEGIN:DAYLIGHT
TZOFFSETFROM:-0600
TZOFFSETTO:-0500
TZNAME:CDT
DTSTART:20260308T080000
END:DAYLIGHT
BEGIN:STANDARD
TZOFFSETFROM:-0500
TZOFFSETTO:-0600
TZNAME:CST
DTSTART:20261101T070000
END:STANDARD
BEGIN:DAYLIGHT
TZOFFSETFROM:-0600
TZOFFSETTO:-0500
TZNAME:CDT
DTSTART:20270314T080000
END:DAYLIGHT
BEGIN:STANDARD
TZOFFSETFROM:-0500
TZOFFSETTO:-0600
TZNAME:CST
DTSTART:20271107T070000
END:STANDARD
END:VTIMEZONE
BEGIN:VEVENT
DTSTART;TZID=America/Chicago:20260301T160000
DTEND;TZID=America/Chicago:20260301T173000
DTSTAMP:20260420T132250
CREATED:20260219T201857Z
LAST-MODIFIED:20260310T160716Z
UID:2295-1772380800-1772386200@fcc-elgin.org
SUMMARY:2026 Lenten Music Series—Christopher Powell and Demi Vanderwerff
DESCRIPTION:CHRISTOPHER POWELL\, ORGANIST\nDEMI VANDERWERFF-POWELL\, MEZZO-SOPRANO \nA unique program including a variety of music drawn from\nmultiple time periods. Featuring organ works\, classical music\nfor voice\, and even jazz\, Demi and Christopher have crafted\nan evening of music with something for everyone. \n  \nTickets: https://fcc-elgin.square.site/
URL:https://fcc-elgin.org/event/2026-lenten-music-series-christopher-powell-and-demi-vanderwerff/
LOCATION:First Congregational United Church of Christ – Elgin\, 256 E Chicago St\, Elgin\, IL\, 60120\, United States
ATTACH;FMTTYPE=image/png:https://fcc-elgin.org/wp-content/uploads/2026/02/Screen-Shot-2026-02-19-at-2.15.32-PM.png
END:VEVENT
END:VCALENDAR