BEGIN:VCALENDAR
VERSION:2.0
PRODID:-//First Congregational Church of Elgin - ECPv6.15.11//NONSGML v1.0//EN
CALSCALE:GREGORIAN
METHOD:PUBLISH
X-ORIGINAL-URL:https://fcc-elgin.org
X-WR-CALDESC:Events for First Congregational Church of Elgin
REFRESH-INTERVAL;VALUE=DURATION:PT1H
X-Robots-Tag:noindex
X-PUBLISHED-TTL:PT1H
BEGIN:VTIMEZONE
TZID:America/Chicago
BEGIN:DAYLIGHT
TZOFFSETFROM:-0600
TZOFFSETTO:-0500
TZNAME:CDT
DTSTART:20240310T080000
END:DAYLIGHT
BEGIN:STANDARD
TZOFFSETFROM:-0500
TZOFFSETTO:-0600
TZNAME:CST
DTSTART:20241103T070000
END:STANDARD
BEGIN:DAYLIGHT
TZOFFSETFROM:-0600
TZOFFSETTO:-0500
TZNAME:CDT
DTSTART:20250309T080000
END:DAYLIGHT
BEGIN:STANDARD
TZOFFSETFROM:-0500
TZOFFSETTO:-0600
TZNAME:CST
DTSTART:20251102T070000
END:STANDARD
BEGIN:DAYLIGHT
TZOFFSETFROM:-0600
TZOFFSETTO:-0500
TZNAME:CDT
DTSTART:20260308T080000
END:DAYLIGHT
BEGIN:STANDARD
TZOFFSETFROM:-0500
TZOFFSETTO:-0600
TZNAME:CST
DTSTART:20261101T070000
END:STANDARD
BEGIN:DAYLIGHT
TZOFFSETFROM:-0600
TZOFFSETTO:-0500
TZNAME:CDT
DTSTART:20270314T080000
END:DAYLIGHT
BEGIN:STANDARD
TZOFFSETFROM:-0500
TZOFFSETTO:-0600
TZNAME:CST
DTSTART:20271107T070000
END:STANDARD
END:VTIMEZONE
BEGIN:VEVENT
DTSTART;TZID=America/Chicago:20251024T190000
DTEND;TZID=America/Chicago:20251024T210000
DTSTAMP:20260422T063738
CREATED:20250916T162407Z
LAST-MODIFIED:20250916T162407Z
UID:2077-1761332400-1761339600@fcc-elgin.org
SUMMARY:The Phantom of the Opera—Accompanied by world famous pipe organist Ben Model
DESCRIPTION:Kick off Nightmare on Chicago Street weekend with frightfully live silent movie scores! Enjoy The Phantom of the Opera\, accompanied by world famous pipe organist\, Ben Model. With a special feature animated short ‘Koko’s Haunted House’. \nThis event is exclusively presented by First Congregational United Church of Christ Music Ministry.
URL:https://fcc-elgin.org/event/the-phantom-of-the-opera-accompanied-by-world-famous-pipe-organist-ben-model/
LOCATION:First Congregational United Church of Christ – Elgin\, 256 E Chicago St\, Elgin\, IL\, 60120\, United States
ATTACH;FMTTYPE=image/png:https://fcc-elgin.org/wp-content/uploads/2025/09/Screen-Shot-2025-09-16-at-11.17.30-AM.png
ORGANIZER;CN="First Congregational United Church of Christ - Elgin":MAILTO:office@fcc-elgin.org
END:VEVENT
BEGIN:VEVENT
DTSTART;TZID=America/Chicago:20251025T090000
DTEND;TZID=America/Chicago:20251025T120000
DTSTAMP:20260422T063738
CREATED:20251013T184701Z
LAST-MODIFIED:20251013T184701Z
UID:2116-1761382800-1761393600@fcc-elgin.org
SUMMARY:Thanksgiving Craft with Marilyn
DESCRIPTION:Join us for a cozy morning of Thanksgiving crafting with Marilyn at First Congregational Church in Elgin! Celebrate the season of gratitude by creating festive fall décor\, sharing creativity\, and connecting with friends old and new. Whether you’re a seasoned crafter or just looking for a fun\, relaxing way to get into the holiday spirit\, Marilyn will guide you through a simple\, beautiful project that will bring warmth to your home and heart. \n9am in the FCC Conference room
URL:https://fcc-elgin.org/event/thanksgiving-craft-with-marilyn/
LOCATION:IL
ATTACH;FMTTYPE=image/png:https://fcc-elgin.org/wp-content/uploads/2025/10/Craft-with-Marilyn.png
ORGANIZER;CN="First Congregational United Church of Christ - Elgin":MAILTO:office@fcc-elgin.org
END:VEVENT
BEGIN:VEVENT
DTSTART;TZID=America/Chicago:20251026T114500
DTEND;TZID=America/Chicago:20251026T130000
DTSTAMP:20260422T063738
CREATED:20251013T191210Z
LAST-MODIFIED:20251013T191210Z
UID:2133-1761479100-1761483600@fcc-elgin.org
SUMMARY:Town Hall on Immigration
DESCRIPTION:Rev. Dr. Jesse Tanner\, Speaker \nLocation: Fellowship Hall\, during Coffee Hour \n\nReliable\, up to date information about the immigration situation in Elgin. The situation changes from day to day. Learn what other groups are working collaboratively in Elgin in various ways to assist and help keep our neighbors safe.\nFind out how this situation developed- What happened?\nFirst Congregational UCC of Elgin’s contributions so far and current plans moving forward.
URL:https://fcc-elgin.org/event/town-hall-on-immigration/
LOCATION:IL
END:VEVENT
BEGIN:VEVENT
DTSTART;TZID=America/Chicago:20251028T183000
DTEND;TZID=America/Chicago:20251028T210000
DTSTAMP:20260422T063738
CREATED:20250523T220620Z
LAST-MODIFIED:20250523T220620Z
UID:1984-1761676200-1761685200@fcc-elgin.org
SUMMARY:Church Council Meeting - October 2025
DESCRIPTION:
URL:https://fcc-elgin.org/event/church-council-meeting-october-2025/
LOCATION:First Congregational United Church of Christ – Elgin\, 256 E Chicago St\, Elgin\, IL\, 60120\, United States
ORGANIZER;CN="First Congregational United Church of Christ - Elgin":MAILTO:office@fcc-elgin.org
END:VEVENT
BEGIN:VEVENT
DTSTART;TZID=America/Chicago:20251102T114500
DTEND;TZID=America/Chicago:20251102T133000
DTSTAMP:20260422T063738
CREATED:20251013T185417Z
LAST-MODIFIED:20251013T191423Z
UID:2120-1762083900-1762090200@fcc-elgin.org
SUMMARY:Dreaming God's Dream—Stewardship Luncheon & Desserts
DESCRIPTION:Location: Fellowship Hall \nThe First Congregational Church of Elgin’s Annual Stewardship Campaign is a fundraising effort to support the church’s operations and ministries. The 2025 campaign\, themed “Dreaming God’s Dream\,” is focused on encouraging members to increase or start giving to the church to fund its budget\, which in turn supports staff\, facilities and various programs. The campaign also emphasizes that stewardship involves more than just financial giving and includes using time\, talent\, and expertise to support the church community. \n\n\nPrepare to Dream Big\n\n\n\n\n\nHow do you envision FCC in the future?\n\n\nWhat’s a DREAM you’ve had for our Congregation?\nHow can we begin to put our DREAMS into action?\n\nJoin with your FCC family for an afternoon of fellowship and learning about how we can make our DREAMS a reality through generosity! \n\n\n\n\n\n\n\n\n2026 Stewardship Campaign\n\n\n\n\nThis year\, the FCC Church Council\, under the recommendation of the Ministry of Finance\, has selected the theme of “Dream God’s Dream” for our 2026 Stewardship initiative. Through gracious and personal generosity\, they believe that FCC can do wonderful things that could build on the many incredible outreach works that we are already doing in our community…we just need to discern where God is calling us to determine our next direction! \nPotluck Luncheon & Dessert \nBuilding on the new tradition initiated last year\, we will be hosting a Potluck Luncheon with desserts immediately after church on Sunday\, November 2 in Fellowship Hall. Join with your fellow congregants to hear about the options and exciting ways we can Dream about the future and continue to be a light in the Elgin community and beyond for years to come! We hope you’ll join us! \n\n\n\n\n\n\n\n\n\n\n\nPlease RSVP at: https://dgdpotluck.rsvpify.com/ \n\nLink to booklet: https://issuu.com/thehealthynonprofitllc/docs/menu_2026_fcc_giving_issuu_v1_1_
URL:https://fcc-elgin.org/event/dreaming-gods-dream-stewardship-luncheon-desserts/
LOCATION:IL
ATTACH;FMTTYPE=image/png:https://fcc-elgin.org/wp-content/uploads/2025/10/Stew-2025-QR-Flyer.png
ORGANIZER;CN="First Congregational United Church of Christ - Elgin":MAILTO:office@fcc-elgin.org
END:VEVENT
BEGIN:VEVENT
DTSTART;TZID=America/Chicago:20251115T090000
DTEND;TZID=America/Chicago:20251115T103000
DTSTAMP:20260422T063738
CREATED:20241003T162032Z
LAST-MODIFIED:20251013T191802Z
UID:1619-1763197200-1763202600@fcc-elgin.org
SUMMARY:Clothing Closet
DESCRIPTION:Clothes & Shoes for children & adults available! \n 
URL:https://fcc-elgin.org/event/clothing-closet-november-2024/
LOCATION:First Congregational United Church of Christ – Elgin\, 256 E Chicago St\, Elgin\, IL\, 60120\, United States
ATTACH;FMTTYPE=image/png:https://fcc-elgin.org/wp-content/uploads/2024/10/CC-Nov-2025.png
ORGANIZER;CN="First Congregational United Church of Christ - Elgin":MAILTO:office@fcc-elgin.org
END:VEVENT
BEGIN:VEVENT
DTSTART;TZID=America/Chicago:20251116T160000
DTEND;TZID=America/Chicago:20251116T170000
DTSTAMP:20260422T063738
CREATED:20250909T174811Z
LAST-MODIFIED:20251016T150133Z
UID:2075-1763308800-1763312400@fcc-elgin.org
SUMMARY:Great Elgin Pipe Organ Tour—Journey of Hope
DESCRIPTION:Journey of Hope United Methodist Church \nTravel along with FCC music director and organist\, Dr. Jeff Neufeld\, as he and guests perform on the many pipe organs of Elgin’s churches\, from the massive four-manual Austin/Rodgers organ at First United Methodist\, to the small but mighty one-manual Casavant at Christ the Lord Lutheran. \nBeginning in September 2025 and continuing through next May\, the tour will begin in downtown Elgin\, make its way out to the west side\, and then loop back into downtown with a finale concert at First Congregational. Along with a wide variety of organ repertoire\, some concerts will also feature piano/organ duets\, other instrumentalists. and hymn singing. \nTo see all organ tour dates visit Organ Tour Dates
URL:https://fcc-elgin.org/event/great-elgin-pipe-organ-tour-2025-2026-2/
LOCATION:Journey of Hope United Methodist Church\, 37W040 Highland Ave\, Elgin\, 60124\, United States
ATTACH;FMTTYPE=image/jpeg:https://fcc-elgin.org/wp-content/uploads/2025/09/Great-Elgin-Organ-Tour-Digital-File-4-copy-scaled.jpg
ORGANIZER;CN="First Congregational United Church of Christ - Elgin":MAILTO:office@fcc-elgin.org
END:VEVENT
BEGIN:VEVENT
DTSTART;TZID=America/Chicago:20251118T183000
DTEND;TZID=America/Chicago:20251118T210000
DTSTAMP:20260422T063738
CREATED:20250523T220706Z
LAST-MODIFIED:20250523T220706Z
UID:1986-1763490600-1763499600@fcc-elgin.org
SUMMARY:Church Council Meeting - November 2025
DESCRIPTION:
URL:https://fcc-elgin.org/event/church-council-meeting-november-2025/
LOCATION:First Congregational United Church of Christ – Elgin\, 256 E Chicago St\, Elgin\, IL\, 60120\, United States
ORGANIZER;CN="First Congregational United Church of Christ - Elgin":MAILTO:office@fcc-elgin.org
END:VEVENT
BEGIN:VEVENT
DTSTART;TZID=America/Chicago:20251130T100000
DTEND;TZID=America/Chicago:20251130T140000
DTSTAMP:20260422T063738
CREATED:20251118T183637Z
LAST-MODIFIED:20251118T183637Z
UID:2256-1764496800-1764511200@fcc-elgin.org
SUMMARY:Christmas Boutique at First Congregational Church of Elgin
DESCRIPTION:Christmas Boutique at First Congregational Church of Elgin\n\nLocation: Fellowship Hall \n\nSponsored by Sojourner’s with Christ. Proceeds benefit local asylum-seeking families.\nFeaturing homemade crafts and gifts\, a bake sale with delicious items just like Grandma used to make and holiday raffles!  This is an elite holiday event showcasing local talent while supporting community members who are most in need of kindness\, support and assistance during this trying time.   
URL:https://fcc-elgin.org/event/christmas-boutique-at-first-congregational-church-of-elgin/
LOCATION:IL
ATTACH;FMTTYPE=image/png:https://fcc-elgin.org/wp-content/uploads/2025/10/Christmas-Boutique-2025Facebook-Post-1.png
END:VEVENT
BEGIN:VEVENT
DTSTART;TZID=America/Chicago:20251130T113000
DTEND;TZID=America/Chicago:20251130T140000
DTSTAMP:20260422T063738
CREATED:20251013T192305Z
LAST-MODIFIED:20251118T183543Z
UID:2137-1764502200-1764511200@fcc-elgin.org
SUMMARY:After Worship Service & Christmas Decorating Party
DESCRIPTION:After worship service\nFCC Christmas Decorating Party\n\nLunch provided by Worship & Hospitality\nSign up at the Welcome Table located outside the Sanctuary.
URL:https://fcc-elgin.org/event/christmas-decorating-party-christmas-boutique/
LOCATION:IL
ATTACH;FMTTYPE=image/png:https://fcc-elgin.org/wp-content/uploads/2025/10/Xmas-Decorating-Party-FB-Post.png
END:VEVENT
BEGIN:VEVENT
DTSTART;TZID=America/Chicago:20251206T190000
DTEND;TZID=America/Chicago:20251206T203000
DTSTAMP:20260422T063738
CREATED:20251013T192601Z
LAST-MODIFIED:20251118T182455Z
UID:2140-1765047600-1765053000@fcc-elgin.org
SUMMARY:Nothing But Treble Concert
DESCRIPTION:Nothing But Treble Concert “Brightest & Best”\n\nLocation: FCC Sanctuary\n\nElgin’s premier treble ensemble is back with the most highly anticipated holiday concert of the year!\nPlease join Nothing but Treble for the “Brightest & Best” choir concert in the Elgin area\, featuring festive songs of the season.\nNBT celebrate connections between women of different generations and walks of life. Members’ ages span five decades with musical backgrounds ranging from high school\, college and church choir singing to music teaching\, conducting and performing. www.nbtelgin.comSuggested donation: $20
URL:https://fcc-elgin.org/event/nothing-but-treble-concert/
LOCATION:IL
ATTACH;FMTTYPE=image/png:https://fcc-elgin.org/wp-content/uploads/2025/10/Nothing-but-Treble-Facebook-Post.png
END:VEVENT
BEGIN:VEVENT
DTSTART;TZID=America/Chicago:20251208T190000
DTEND;TZID=America/Chicago:20251208T200000
DTSTAMP:20260422T063738
CREATED:20251013T192650Z
LAST-MODIFIED:20251118T182601Z
UID:2142-1765220400-1765224000@fcc-elgin.org
SUMMARY:Chamber Music on the Fox: Holiday Brass
DESCRIPTION:Location: Sanctuary \nCelebrate the season with Axiom Brass\, one of Chicago’s premier brass ensembles\, as they return to Chamber Music on the Fox with a festive holiday program designed to bring you the joy of the season. Known for their dedication to “living music\,” Axiom Brass not only performs timeless classics but also highlights the works of contemporary composers\, engaging audiences with their dynamic performances. Join us for a weekend of holiday cheer\, music\, and the joy of community! \n$25/$15 students \nBuy tickets: https://www.chambermusiconthefox.org/concert/holiday-brass/ \n 
URL:https://fcc-elgin.org/event/chamber-music-on-the-fox-holiday-brass/
LOCATION:IL
ATTACH;FMTTYPE=image/png:https://fcc-elgin.org/wp-content/uploads/2025/10/Holiday-Brass-2025-8.5-x-11-in.png
END:VEVENT
BEGIN:VEVENT
DTSTART;TZID=America/Chicago:20251209T160000
DTEND;TZID=America/Chicago:20251209T180000
DTSTAMP:20260422T063738
CREATED:20251118T182910Z
LAST-MODIFIED:20251118T182910Z
UID:2248-1765296000-1765303200@fcc-elgin.org
SUMMARY:Finance Meeting
DESCRIPTION:First Congregational United Church of Christ – Elgin 256 E Chicago St\, Elgin\, IL\, United States
URL:https://fcc-elgin.org/event/finance-meeting-2/
LOCATION:IL
END:VEVENT
BEGIN:VEVENT
DTSTART;TZID=America/Chicago:20251216T183000
DTEND;TZID=America/Chicago:20251216T210000
DTSTAMP:20260422T063738
CREATED:20250523T220746Z
LAST-MODIFIED:20250523T220746Z
UID:1988-1765909800-1765918800@fcc-elgin.org
SUMMARY:Church Council Meeting - December 2025
DESCRIPTION:
URL:https://fcc-elgin.org/event/church-council-meeting-december-2025/
LOCATION:First Congregational United Church of Christ – Elgin\, 256 E Chicago St\, Elgin\, IL\, 60120\, United States
ORGANIZER;CN="First Congregational United Church of Christ - Elgin":MAILTO:office@fcc-elgin.org
END:VEVENT
BEGIN:VEVENT
DTSTART;TZID=America/Chicago:20251220T190000
DTEND;TZID=America/Chicago:20251220T200000
DTSTAMP:20260422T063738
CREATED:20251013T192757Z
LAST-MODIFIED:20251118T183155Z
UID:2144-1766257200-1766260800@fcc-elgin.org
SUMMARY:FCC Annual Christmas Sing-A-Long Featuring Canto Zenzero\, aka The Singing Gingers
DESCRIPTION:FCC Annual Christmas Carol Sing-A-Long Feat. Canto Zenzero\, aka The Singing Gingers \n\nLocation: Sanctuary\n\nThis long-time favorite Elgin event is back & better than ever! Join us in singing along to your favorite Christmas songs\, led by the incredibly talented quartet Canto Zenzero.\n\nFree will offering.
URL:https://fcc-elgin.org/event/fcc-annual-christmas-sing-a-long-featuring-canto-zenzero-aka-the-singing-gingers/
LOCATION:IL
ATTACH;FMTTYPE=image/png:https://fcc-elgin.org/wp-content/uploads/2025/10/CZ-Christmas-Promo-Elgin.png
END:VEVENT
BEGIN:VEVENT
DTSTART;TZID=America/Chicago:20251221T103000
DTEND;TZID=America/Chicago:20251221T120000
DTSTAMP:20260422T063738
CREATED:20251118T183320Z
LAST-MODIFIED:20251118T183320Z
UID:2251-1766313000-1766318400@fcc-elgin.org
SUMMARY:Annual Sunday School Nativity Program Performance
DESCRIPTION:FCC Elgin’s Annual Sunday School Nativity Program Performance\n\nLocation: Sanctuary
URL:https://fcc-elgin.org/event/annual-sunday-school-nativity-program-performance/
LOCATION:IL
END:VEVENT
BEGIN:VEVENT
DTSTART;TZID=America/Chicago:20251224T183000
DTEND;TZID=America/Chicago:20251224T200000
DTSTAMP:20260422T063738
CREATED:20251013T192847Z
LAST-MODIFIED:20251118T183447Z
UID:2146-1766601000-1766606400@fcc-elgin.org
SUMMARY:Christmas Eve Service
DESCRIPTION:Christmas Eve Service \n\n\nIn collaboration with First United Methodist \n\nLocation: Sanctuary\n 
URL:https://fcc-elgin.org/event/christmas-eve-service/
LOCATION:IL
END:VEVENT
BEGIN:VEVENT
DTSTART;TZID=America/Chicago:20260111T150000
DTEND;TZID=America/Chicago:20260111T170000
DTSTAMP:20260422T063738
CREATED:20251016T150524Z
LAST-MODIFIED:20251016T150524Z
UID:2157-1768143600-1768150800@fcc-elgin.org
SUMMARY:Great Elgin Pipe Organ Tour—Immanuel Lutheran Dundee
DESCRIPTION:Immanuel Lutheran Dundee \nTravel along with FCC music director and organist\, Dr. Jeff Neufeld\, as he and guests perform on the many pipe organs of Elgin’s churches\, from the massive four-manual Austin/Rodgers organ at First United Methodist\, to the small but mighty one-manual Casavant at Christ the Lord Lutheran. \nBeginning in September 2025 and continuing through next May\, the tour will begin in downtown Elgin\, make its way out to the west side\, and then loop back into downtown with a finale concert at First Congregational. Along with a wide variety of organ repertoire\, some concerts will also feature piano/organ duets\, other instrumentalists. and hymn singing. \nTo see all organ tour dates visit Organ Tour Dates
URL:https://fcc-elgin.org/event/great-elgin-pipe-organ-tour-immanuel-lutheran-dundee/
LOCATION:Immanuel Lutheran Dundee\, 310 E. Main Street\, Dundee\, IL\, United States
ATTACH;FMTTYPE=image/jpeg:https://fcc-elgin.org/wp-content/uploads/2025/09/Great-Elgin-Organ-Tour-Digital-File-4-copy-scaled.jpg
END:VEVENT
BEGIN:VEVENT
DTSTART;TZID=America/Chicago:20260120T183000
DTEND;TZID=America/Chicago:20260120T210000
DTSTAMP:20260422T063738
CREATED:20250523T220828Z
LAST-MODIFIED:20250523T220828Z
UID:1990-1768933800-1768942800@fcc-elgin.org
SUMMARY:Church Council Meeting - January 2026
DESCRIPTION:
URL:https://fcc-elgin.org/event/church-council-meeting-january-2026/
LOCATION:First Congregational United Church of Christ – Elgin\, 256 E Chicago St\, Elgin\, IL\, 60120\, United States
ORGANIZER;CN="First Congregational United Church of Christ - Elgin":MAILTO:office@fcc-elgin.org
END:VEVENT
BEGIN:VEVENT
DTSTART;TZID=America/Chicago:20260201T160000
DTEND;TZID=America/Chicago:20260201T180000
DTSTAMP:20260422T063738
CREATED:20251016T152034Z
LAST-MODIFIED:20251016T152034Z
UID:2161-1769961600-1769968800@fcc-elgin.org
SUMMARY:Great Elgin Pipe Organ Tour—St. Laurence Catholic Church
DESCRIPTION:St. Laurence Catholic Church \nTravel along with FCC music director and organist\, Dr. Jeff Neufeld\, as he and guests perform on the many pipe organs of Elgin’s churches\, from the massive four-manual Austin/Rodgers organ at First United Methodist\, to the small but mighty one-manual Casavant at Christ the Lord Lutheran. \nBeginning in September 2025 and continuing through next May\, the tour will begin in downtown Elgin\, make its way out to the west side\, and then loop back into downtown with a finale concert at First Congregational. Along with a wide variety of organ repertoire\, some concerts will also feature piano/organ duets\, other instrumentalists. and hymn singing. \nTo see all organ tour dates visit Organ Tour Dates
URL:https://fcc-elgin.org/event/great-elgin-pipe-organ-tour-stlaurence-catholic-church/
LOCATION:St. Laurence Catholic Church\, 225 Jewett St.\, Elgin\, IL\, 60123\, United States
ATTACH;FMTTYPE=image/jpeg:https://fcc-elgin.org/wp-content/uploads/2025/09/Great-Elgin-Organ-Tour-Digital-File-4-copy-scaled.jpg
END:VEVENT
BEGIN:VEVENT
DTSTART;TZID=America/Chicago:20260215T160000
DTEND;TZID=America/Chicago:20260215T190000
DTSTAMP:20260422T063738
CREATED:20251016T155335Z
LAST-MODIFIED:20251027T162136Z
UID:2166-1771171200-1771182000@fcc-elgin.org
SUMMARY:Great Elgin Pipe Organ Tour—St. Mary's Catholic Church
DESCRIPTION:St. Mary’s Catholic Church—February TBA \nTravel along with FCC music director and organist\, Dr. Jeff Neufeld\, as he and guests perform on the many pipe organs of Elgin’s churches\, from the massive four-manual Austin/Rodgers organ at First United Methodist\, to the small but mighty one-manual Casavant at Christ the Lord Lutheran. \nBeginning in September 2025 and continuing through next May\, the tour will begin in downtown Elgin\, make its way out to the west side\, and then loop back into downtown with a finale concert at First Congregational. Along with a wide variety of organ repertoire\, some concerts will also feature piano/organ duets\, other instrumentalists. and hymn singing. \nTo see all organ tour dates visit Organ Tour Dates
URL:https://fcc-elgin.org/event/great-elgin-pipe-organ-tour-stmarys/
LOCATION:St. Mary’s Catholic Church\, 397 Fulton St.\, Elgin\, IL\, United States
ATTACH;FMTTYPE=image/jpeg:https://fcc-elgin.org/wp-content/uploads/2025/09/Great-Elgin-Organ-Tour-Digital-File-4-copy-scaled.jpg
ORGANIZER;CN="First Congregational United Church of Christ - Elgin":MAILTO:office@fcc-elgin.org
END:VEVENT
BEGIN:VEVENT
DTSTART;TZID=America/Chicago:20260218T190000
DTEND;TZID=America/Chicago:20260218T200000
DTSTAMP:20260422T063738
CREATED:20260120T213824Z
LAST-MODIFIED:20260120T213824Z
UID:2282-1771441200-1771444800@fcc-elgin.org
SUMMARY:Ash Wednesday Service
DESCRIPTION:Ash Wednesday at FCC!\nJoin us this year as we begin the Lenten journey toward Holy Week and Easter.
URL:https://fcc-elgin.org/event/ash-wednesday-service/
LOCATION:First Congregational United Church of Christ – Elgin\, 256 E Chicago St\, Elgin\, IL\, 60120\, United States
ATTACH;FMTTYPE=image/jpeg:https://fcc-elgin.org/wp-content/uploads/2026/01/Ash-wednesday.jpg
ORGANIZER;CN="First Congregational United Church of Christ - Elgin":MAILTO:office@fcc-elgin.org
END:VEVENT
BEGIN:VEVENT
DTSTART;TZID=America/Chicago:20260222T160000
DTEND;TZID=America/Chicago:20260222T190000
DTSTAMP:20260422T063738
CREATED:20251016T152631Z
LAST-MODIFIED:20251016T153709Z
UID:2164-1771776000-1771786800@fcc-elgin.org
SUMMARY:Great Elgin Pipe Organ Tour—First Presbyterian Church of Elgin
DESCRIPTION:First Presbyterian Church of Elgin \nTravel along with FCC music director and organist\, Dr. Jeff Neufeld\, as he and guests perform on the many pipe organs of Elgin’s churches\, from the massive four-manual Austin/Rodgers organ at First United Methodist\, to the small but mighty one-manual Casavant at Christ the Lord Lutheran. \nBeginning in September 2025 and continuing through next May\, the tour will begin in downtown Elgin\, make its way out to the west side\, and then loop back into downtown with a finale concert at First Congregational. Along with a wide variety of organ repertoire\, some concerts will also feature piano/organ duets\, other instrumentalists. and hymn singing. \nTo see all organ tour dates visit Organ Tour Dates
URL:https://fcc-elgin.org/event/great-elgin-pipe-organ-tour-first-presbyterian/
LOCATION:First Presbyterian Church\, 240 Standish Street\, Elgin\, IL\, 60123\, United States
ATTACH;FMTTYPE=image/jpeg:https://fcc-elgin.org/wp-content/uploads/2025/09/Great-Elgin-Organ-Tour-Digital-File-4-copy-scaled.jpg
END:VEVENT
BEGIN:VEVENT
DTSTART;TZID=America/Chicago:20260225T190000
DTEND;TZID=America/Chicago:20260225T200000
DTSTAMP:20260422T063738
CREATED:20260120T214030Z
LAST-MODIFIED:20260120T214030Z
UID:2285-1772046000-1772049600@fcc-elgin.org
SUMMARY:ReCenter—A Meditation Gathering for Renewal
DESCRIPTION:Join Rev. Dr. Jesse Tanner for ReCenter\, a weekly guided meditation gathering offering a quiet pause in the middle of the week.\nEach Wednesday at 7:00 pm\, we’ll slow our breathing\, still our minds\, and reconnect with our truest selves and the Sacred presence that holds us.\nIn a time of heightened stress and turmoil in our society\, this gathering offers a much-needed space for recentering and replenishing our spirits.\nNo prior experience is needed—just come as you are. Hope to see you there!
URL:https://fcc-elgin.org/event/recenter-a-meditation-gathering-for-renewal/
LOCATION:First Congregational United Church of Christ – Elgin\, 256 E Chicago St\, Elgin\, IL\, 60120\, United States
ATTACH;FMTTYPE=image/jpeg:https://fcc-elgin.org/wp-content/uploads/2026/01/ReCenter.jpg
ORGANIZER;CN="First Congregational United Church of Christ - Elgin":MAILTO:office@fcc-elgin.org
END:VEVENT
BEGIN:VEVENT
DTSTART;TZID=America/Chicago:20260301T160000
DTEND;TZID=America/Chicago:20260301T173000
DTSTAMP:20260422T063738
CREATED:20260219T201857Z
LAST-MODIFIED:20260310T160716Z
UID:2295-1772380800-1772386200@fcc-elgin.org
SUMMARY:2026 Lenten Music Series—Christopher Powell and Demi Vanderwerff
DESCRIPTION:CHRISTOPHER POWELL\, ORGANIST\nDEMI VANDERWERFF-POWELL\, MEZZO-SOPRANO \nA unique program including a variety of music drawn from\nmultiple time periods. Featuring organ works\, classical music\nfor voice\, and even jazz\, Demi and Christopher have crafted\nan evening of music with something for everyone. \n  \nTickets: https://fcc-elgin.square.site/
URL:https://fcc-elgin.org/event/2026-lenten-music-series-christopher-powell-and-demi-vanderwerff/
LOCATION:First Congregational United Church of Christ – Elgin\, 256 E Chicago St\, Elgin\, IL\, 60120\, United States
ATTACH;FMTTYPE=image/png:https://fcc-elgin.org/wp-content/uploads/2026/02/Screen-Shot-2026-02-19-at-2.15.32-PM.png
END:VEVENT
BEGIN:VEVENT
DTSTART;TZID=America/Chicago:20260315T160000
DTEND;TZID=America/Chicago:20260315T173000
DTSTAMP:20260422T063738
CREATED:20260219T202100Z
LAST-MODIFIED:20260310T160646Z
UID:2298-1773590400-1773595800@fcc-elgin.org
SUMMARY:2026 Lenten Music Series—The Flannau & Quijote Duo
DESCRIPTION:THE FLANNAU & QUIJOTE DUO\n“Hammer & Bow” brings together viola\,\ncello\, piano & percussion in an exploration\nof co-creation & unifying musical forces.\nFeat. premieres of new compositions by\nJorge Amado\, Ben Zucker & Sixto Franco. \n  \nTickets: https://fcc-elgin.square.site/
URL:https://fcc-elgin.org/event/2026-lenten-music-series-the-flannau-quijote-duo/
LOCATION:First Congregational United Church of Christ – Elgin\, 256 E Chicago St\, Elgin\, IL\, 60120\, United States
ATTACH;FMTTYPE=image/png:https://fcc-elgin.org/wp-content/uploads/2026/02/Screen-Shot-2026-02-19-at-2.19.10-PM.png
END:VEVENT
BEGIN:VEVENT
DTSTART;TZID=America/Chicago:20260329T160000
DTEND;TZID=America/Chicago:20260329T173000
DTSTAMP:20260422T063738
CREATED:20260219T202325Z
LAST-MODIFIED:20260310T160613Z
UID:2301-1774800000-1774805400@fcc-elgin.org
SUMMARY:2026 Lenten Music Series— Kaia String Quartet
DESCRIPTION:KAIA STRING QUARTET\nFrom the tango of the Rio de la Plata to the string quartets\nof Silvestre Revueltas\, the KAlA String Quartet is an\nensemble devoted to promoting the rich and colorful music\nof Latin America. \n  \nTickets: https://fcc-elgin.square.site/
URL:https://fcc-elgin.org/event/2026-lenten-music-series-kaia-string-quartet/
LOCATION:First Congregational United Church of Christ – Elgin\, 256 E Chicago St\, Elgin\, IL\, 60120\, United States
ATTACH;FMTTYPE=image/png:https://fcc-elgin.org/wp-content/uploads/2026/02/Screen-Shot-2026-02-19-at-2.22.08-PM.png
ORGANIZER;CN="First Congregational United Church of Christ - Elgin":MAILTO:office@fcc-elgin.org
END:VEVENT
BEGIN:VEVENT
DTSTART;TZID=America/Chicago:20260402T183000
DTEND;TZID=America/Chicago:20260402T193000
DTSTAMP:20260422T063738
CREATED:20260219T202517Z
LAST-MODIFIED:20260219T202517Z
UID:2304-1775154600-1775158200@fcc-elgin.org
SUMMARY:Maundy Thursday
DESCRIPTION:Maundy Thursday in Fellowship Hall at 6:30pm on April 2nd.
URL:https://fcc-elgin.org/event/maundy-thursday-2/
LOCATION:First Congregational United Church of Christ – Elgin\, 256 E Chicago St\, Elgin\, IL\, 60120\, United States
END:VEVENT
BEGIN:VEVENT
DTSTART;TZID=America/Chicago:20260403T190000
DTEND;TZID=America/Chicago:20260403T200000
DTSTAMP:20260422T063738
CREATED:20260219T202626Z
LAST-MODIFIED:20260219T202626Z
UID:2306-1775242800-1775246400@fcc-elgin.org
SUMMARY:Good Friday
DESCRIPTION:Good Friday services in the Sanctuary at 7pm on April 3rd.
URL:https://fcc-elgin.org/event/good-friday-2/
LOCATION:IL
END:VEVENT
BEGIN:VEVENT
DTSTART;TZID=America/Chicago:20260405T093000
DTEND;TZID=America/Chicago:20260405T120000
DTSTAMP:20260422T063738
CREATED:20260219T202835Z
LAST-MODIFIED:20260219T202835Z
UID:2308-1775381400-1775390400@fcc-elgin.org
SUMMARY:Easter Sunday Celebration
DESCRIPTION:Brunch in the Fellowship Hall at 9:30am \nWorship in the Sanctuary at 10:30am
URL:https://fcc-elgin.org/event/easter-sunday-celebration/
LOCATION:First Congregational United Church of Christ – Elgin\, 256 E Chicago St\, Elgin\, IL\, 60120\, United States
ATTACH;FMTTYPE=image/png:https://fcc-elgin.org/wp-content/uploads/2026/02/Screen-Shot-2026-02-19-at-2.28.08-PM.png
END:VEVENT
END:VCALENDAR