BEGIN:VCALENDAR
VERSION:2.0
PRODID:-//First Congregational Church of Elgin - ECPv6.15.11//NONSGML v1.0//EN
CALSCALE:GREGORIAN
METHOD:PUBLISH
X-WR-CALNAME:First Congregational Church of Elgin
X-ORIGINAL-URL:https://fcc-elgin.org
X-WR-CALDESC:Events for First Congregational Church of Elgin
REFRESH-INTERVAL;VALUE=DURATION:PT1H
X-Robots-Tag:noindex
X-PUBLISHED-TTL:PT1H
BEGIN:VTIMEZONE
TZID:America/Chicago
BEGIN:DAYLIGHT
TZOFFSETFROM:-0600
TZOFFSETTO:-0500
TZNAME:CDT
DTSTART:20250309T080000
END:DAYLIGHT
BEGIN:STANDARD
TZOFFSETFROM:-0500
TZOFFSETTO:-0600
TZNAME:CST
DTSTART:20251102T070000
END:STANDARD
BEGIN:DAYLIGHT
TZOFFSETFROM:-0600
TZOFFSETTO:-0500
TZNAME:CDT
DTSTART:20260308T080000
END:DAYLIGHT
BEGIN:STANDARD
TZOFFSETFROM:-0500
TZOFFSETTO:-0600
TZNAME:CST
DTSTART:20261101T070000
END:STANDARD
BEGIN:DAYLIGHT
TZOFFSETFROM:-0600
TZOFFSETTO:-0500
TZNAME:CDT
DTSTART:20270314T080000
END:DAYLIGHT
BEGIN:STANDARD
TZOFFSETFROM:-0500
TZOFFSETTO:-0600
TZNAME:CST
DTSTART:20271107T070000
END:STANDARD
END:VTIMEZONE
BEGIN:VEVENT
DTSTART;TZID=America/Chicago:20260201T160000
DTEND;TZID=America/Chicago:20260201T180000
DTSTAMP:20260420T132255
CREATED:20251016T152034Z
LAST-MODIFIED:20251016T152034Z
UID:2161-1769961600-1769968800@fcc-elgin.org
SUMMARY:Great Elgin Pipe Organ Tour—St. Laurence Catholic Church
DESCRIPTION:St. Laurence Catholic Church \nTravel along with FCC music director and organist\, Dr. Jeff Neufeld\, as he and guests perform on the many pipe organs of Elgin’s churches\, from the massive four-manual Austin/Rodgers organ at First United Methodist\, to the small but mighty one-manual Casavant at Christ the Lord Lutheran. \nBeginning in September 2025 and continuing through next May\, the tour will begin in downtown Elgin\, make its way out to the west side\, and then loop back into downtown with a finale concert at First Congregational. Along with a wide variety of organ repertoire\, some concerts will also feature piano/organ duets\, other instrumentalists. and hymn singing. \nTo see all organ tour dates visit Organ Tour Dates
URL:https://fcc-elgin.org/event/great-elgin-pipe-organ-tour-stlaurence-catholic-church/
LOCATION:St. Laurence Catholic Church\, 225 Jewett St.\, Elgin\, IL\, 60123\, United States
ATTACH;FMTTYPE=image/jpeg:https://fcc-elgin.org/wp-content/uploads/2025/09/Great-Elgin-Organ-Tour-Digital-File-4-copy-scaled.jpg
END:VEVENT
BEGIN:VEVENT
DTSTART;TZID=America/Chicago:20260215T160000
DTEND;TZID=America/Chicago:20260215T190000
DTSTAMP:20260420T132255
CREATED:20251016T155335Z
LAST-MODIFIED:20251027T162136Z
UID:2166-1771171200-1771182000@fcc-elgin.org
SUMMARY:Great Elgin Pipe Organ Tour—St. Mary's Catholic Church
DESCRIPTION:St. Mary’s Catholic Church—February TBA \nTravel along with FCC music director and organist\, Dr. Jeff Neufeld\, as he and guests perform on the many pipe organs of Elgin’s churches\, from the massive four-manual Austin/Rodgers organ at First United Methodist\, to the small but mighty one-manual Casavant at Christ the Lord Lutheran. \nBeginning in September 2025 and continuing through next May\, the tour will begin in downtown Elgin\, make its way out to the west side\, and then loop back into downtown with a finale concert at First Congregational. Along with a wide variety of organ repertoire\, some concerts will also feature piano/organ duets\, other instrumentalists. and hymn singing. \nTo see all organ tour dates visit Organ Tour Dates
URL:https://fcc-elgin.org/event/great-elgin-pipe-organ-tour-stmarys/
LOCATION:St. Mary’s Catholic Church\, 397 Fulton St.\, Elgin\, IL\, United States
ATTACH;FMTTYPE=image/jpeg:https://fcc-elgin.org/wp-content/uploads/2025/09/Great-Elgin-Organ-Tour-Digital-File-4-copy-scaled.jpg
ORGANIZER;CN="First Congregational United Church of Christ - Elgin":MAILTO:office@fcc-elgin.org
END:VEVENT
BEGIN:VEVENT
DTSTART;TZID=America/Chicago:20260218T190000
DTEND;TZID=America/Chicago:20260218T200000
DTSTAMP:20260420T132255
CREATED:20260120T213824Z
LAST-MODIFIED:20260120T213824Z
UID:2282-1771441200-1771444800@fcc-elgin.org
SUMMARY:Ash Wednesday Service
DESCRIPTION:Ash Wednesday at FCC!\nJoin us this year as we begin the Lenten journey toward Holy Week and Easter.
URL:https://fcc-elgin.org/event/ash-wednesday-service/
LOCATION:First Congregational United Church of Christ – Elgin\, 256 E Chicago St\, Elgin\, IL\, 60120\, United States
ATTACH;FMTTYPE=image/jpeg:https://fcc-elgin.org/wp-content/uploads/2026/01/Ash-wednesday.jpg
ORGANIZER;CN="First Congregational United Church of Christ - Elgin":MAILTO:office@fcc-elgin.org
END:VEVENT
BEGIN:VEVENT
DTSTART;TZID=America/Chicago:20260222T160000
DTEND;TZID=America/Chicago:20260222T190000
DTSTAMP:20260420T132255
CREATED:20251016T152631Z
LAST-MODIFIED:20251016T153709Z
UID:2164-1771776000-1771786800@fcc-elgin.org
SUMMARY:Great Elgin Pipe Organ Tour—First Presbyterian Church of Elgin
DESCRIPTION:First Presbyterian Church of Elgin \nTravel along with FCC music director and organist\, Dr. Jeff Neufeld\, as he and guests perform on the many pipe organs of Elgin’s churches\, from the massive four-manual Austin/Rodgers organ at First United Methodist\, to the small but mighty one-manual Casavant at Christ the Lord Lutheran. \nBeginning in September 2025 and continuing through next May\, the tour will begin in downtown Elgin\, make its way out to the west side\, and then loop back into downtown with a finale concert at First Congregational. Along with a wide variety of organ repertoire\, some concerts will also feature piano/organ duets\, other instrumentalists. and hymn singing. \nTo see all organ tour dates visit Organ Tour Dates
URL:https://fcc-elgin.org/event/great-elgin-pipe-organ-tour-first-presbyterian/
LOCATION:First Presbyterian Church\, 240 Standish Street\, Elgin\, IL\, 60123\, United States
ATTACH;FMTTYPE=image/jpeg:https://fcc-elgin.org/wp-content/uploads/2025/09/Great-Elgin-Organ-Tour-Digital-File-4-copy-scaled.jpg
END:VEVENT
BEGIN:VEVENT
DTSTART;TZID=America/Chicago:20260225T190000
DTEND;TZID=America/Chicago:20260225T200000
DTSTAMP:20260420T132255
CREATED:20260120T214030Z
LAST-MODIFIED:20260120T214030Z
UID:2285-1772046000-1772049600@fcc-elgin.org
SUMMARY:ReCenter—A Meditation Gathering for Renewal
DESCRIPTION:Join Rev. Dr. Jesse Tanner for ReCenter\, a weekly guided meditation gathering offering a quiet pause in the middle of the week.\nEach Wednesday at 7:00 pm\, we’ll slow our breathing\, still our minds\, and reconnect with our truest selves and the Sacred presence that holds us.\nIn a time of heightened stress and turmoil in our society\, this gathering offers a much-needed space for recentering and replenishing our spirits.\nNo prior experience is needed—just come as you are. Hope to see you there!
URL:https://fcc-elgin.org/event/recenter-a-meditation-gathering-for-renewal/
LOCATION:First Congregational United Church of Christ – Elgin\, 256 E Chicago St\, Elgin\, IL\, 60120\, United States
ATTACH;FMTTYPE=image/jpeg:https://fcc-elgin.org/wp-content/uploads/2026/01/ReCenter.jpg
ORGANIZER;CN="First Congregational United Church of Christ - Elgin":MAILTO:office@fcc-elgin.org
END:VEVENT
END:VCALENDAR