BEGIN:VCALENDAR
VERSION:2.0
PRODID:-//First Congregational Church of Elgin - ECPv6.15.11//NONSGML v1.0//EN
CALSCALE:GREGORIAN
METHOD:PUBLISH
X-ORIGINAL-URL:https://fcc-elgin.org
X-WR-CALDESC:Events for First Congregational Church of Elgin
REFRESH-INTERVAL;VALUE=DURATION:PT1H
X-Robots-Tag:noindex
X-PUBLISHED-TTL:PT1H
BEGIN:VTIMEZONE
TZID:America/Chicago
BEGIN:DAYLIGHT
TZOFFSETFROM:-0600
TZOFFSETTO:-0500
TZNAME:CDT
DTSTART:20250309T080000
END:DAYLIGHT
BEGIN:STANDARD
TZOFFSETFROM:-0500
TZOFFSETTO:-0600
TZNAME:CST
DTSTART:20251102T070000
END:STANDARD
BEGIN:DAYLIGHT
TZOFFSETFROM:-0600
TZOFFSETTO:-0500
TZNAME:CDT
DTSTART:20260308T080000
END:DAYLIGHT
BEGIN:STANDARD
TZOFFSETFROM:-0500
TZOFFSETTO:-0600
TZNAME:CST
DTSTART:20261101T070000
END:STANDARD
BEGIN:DAYLIGHT
TZOFFSETFROM:-0600
TZOFFSETTO:-0500
TZNAME:CDT
DTSTART:20270314T080000
END:DAYLIGHT
BEGIN:STANDARD
TZOFFSETFROM:-0500
TZOFFSETTO:-0600
TZNAME:CST
DTSTART:20271107T070000
END:STANDARD
END:VTIMEZONE
BEGIN:VEVENT
DTSTART;TZID=America/Chicago:20260517T140000
DTEND;TZID=America/Chicago:20260517T160000
DTSTAMP:20260420T132259
CREATED:20260306T193926Z
LAST-MODIFIED:20260420T150734Z
UID:2388-1779026400-1779033600@fcc-elgin.org
SUMMARY:Great Elgin Pipe Organ Tour—Immanuel United Church of Christ Bartlett
DESCRIPTION:Immanuel United Church of Christ—Bartlett \nTravel along with FCC music director and organist\, Dr. Jeff Neufeld\, as he and guests perform on the many pipe organs of Elgin’s churches\, from the massive four-manual Austin/Rodgers organ at First United Methodist\, to the small but mighty one-manual Casavant at Christ the Lord Lutheran. \nBeginning in September 2025 and continuing through next May\, the tour will begin in downtown Elgin\, make its way out to the west side\, and then loop back into downtown with a finale concert at First Congregational. Along with a wide variety of organ repertoire\, some concerts will also feature piano/organ duets\, other instrumentalists. and hymn singing. \nTo see all organ tour dates visit Organ Tour Dates
URL:https://fcc-elgin.org/event/great-elgin-pipe-organ-tour-immanuel-lutheran-bartlett/
LOCATION:Immanuel United Church of Christ—Bartlett\, 415 W. North Avenue\, Bartlett\, IL\, United States
ATTACH;FMTTYPE=image/jpeg:https://fcc-elgin.org/wp-content/uploads/2025/09/Great-Elgin-Organ-Tour-Digital-File-4-copy-scaled.jpg
END:VEVENT
END:VCALENDAR